BEGIN:VCALENDAR
VERSION:2.0
PRODID:-//Weser-Aue Aktuell - ECPv6.15.20//NONSGML v1.0//EN
CALSCALE:GREGORIAN
METHOD:PUBLISH
X-WR-CALNAME:Weser-Aue Aktuell
X-ORIGINAL-URL:https://www.weser-aue-aktuell.de
X-WR-CALDESC:Veranstaltungen im Weser-Aue Aktuell
REFRESH-INTERVAL;VALUE=DURATION:PT1H
X-Robots-Tag:noindex
X-PUBLISHED-TTL:PT1H
BEGIN:VTIMEZONE
TZID:Europe/Berlin
BEGIN:DAYLIGHT
TZOFFSETFROM:+0100
TZOFFSETTO:+0200
TZNAME:CEST
DTSTART:20180325T010000
END:DAYLIGHT
BEGIN:STANDARD
TZOFFSETFROM:+0200
TZOFFSETTO:+0100
TZNAME:CET
DTSTART:20181028T010000
END:STANDARD
BEGIN:DAYLIGHT
TZOFFSETFROM:+0100
TZOFFSETTO:+0200
TZNAME:CEST
DTSTART:20190331T010000
END:DAYLIGHT
BEGIN:STANDARD
TZOFFSETFROM:+0200
TZOFFSETTO:+0100
TZNAME:CET
DTSTART:20191027T010000
END:STANDARD
BEGIN:DAYLIGHT
TZOFFSETFROM:+0100
TZOFFSETTO:+0200
TZNAME:CEST
DTSTART:20200329T010000
END:DAYLIGHT
BEGIN:STANDARD
TZOFFSETFROM:+0200
TZOFFSETTO:+0100
TZNAME:CET
DTSTART:20201025T010000
END:STANDARD
END:VTIMEZONE
BEGIN:VEVENT
DTSTART;TZID=Europe/Berlin:20190719T100000
DTEND;TZID=Europe/Berlin:20190719T120000
DTSTAMP:20260420T012512
CREATED:20190525T122313Z
LAST-MODIFIED:20190703T100006Z
UID:6020-1563530400-1563537600@www.weser-aue-aktuell.de
SUMMARY:Kreativwerkstatt
DESCRIPTION:Der Verein Auekunst e.V. beteiligt sich mit der Aktion \n„Kreativwerkstatt“\nam Ferienpassprogramm der Samtgemeinde Liebenau. \nDie Teilnahme erfordert eine Anmeldung bei der Samtgemeinde Liebenau. \nAnsprechpartnerin: Petra Graner
URL:https://www.weser-aue-aktuell.de/event/kreativwerkstatt/
LOCATION:Kulturscheunen Liebenau\, Bergstraße 8\, Liebenau\, Niedersachsen\, 31618\, Deutschland
ATTACH;FMTTYPE=image/jpeg:https://www.weser-aue-aktuell.de/wp-content/uploads/sites/381/2019/05/Ferienpass-SG-Liebenau.jpg
ORGANIZER;CN="Auekunst e.V.":MAILTO:kontakt@auekunst.de
END:VEVENT
BEGIN:VEVENT
DTSTART;TZID=Europe/Berlin:20190715T150000
DTEND;TZID=Europe/Berlin:20190715T180000
DTSTAMP:20260420T012512
CREATED:20190524T092654Z
LAST-MODIFIED:20190703T100055Z
UID:5341-1563202800-1563213600@www.weser-aue-aktuell.de
SUMMARY:Boßeln
DESCRIPTION:Die Theatergemeinschaft Mainsche beteiligt sich in diesem Jahr mit der Aktion „Boßeln“ an der Ferienpassaktion für Kinder der Samtgemeinde Liebenau. \nAnmeldung bei der Samtgemeinde Liebenau erforderlich! \nNähere Infos bei Wolfgang Kügler 05028 321
URL:https://www.weser-aue-aktuell.de/event/bosseln/
LOCATION:Niedersachsen
ATTACH;FMTTYPE=image/jpeg:https://www.weser-aue-aktuell.de/wp-content/uploads/sites/381/2019/05/Ferienpass-SG-Liebenau.jpg
END:VEVENT
BEGIN:VEVENT
DTSTART;TZID=Europe/Berlin:20190708T140000
DTEND;TZID=Europe/Berlin:20190708T180000
DTSTAMP:20260420T012512
CREATED:20190524T092239Z
LAST-MODIFIED:20190703T100127Z
UID:5327-1562594400-1562608800@www.weser-aue-aktuell.de
SUMMARY:Bauerngolf
DESCRIPTION:Anstelle des Familientages beteiligt sich der LandFrauenverein Pennigsehl-Mainsche e.V. in diesem Jahr wieder mit einer Aktion für Kinder an dem Ferienpass der Samtgemeinde Liebenau. \nAnmeldung erforderlich! \nNähere Infos findet Ihr auch im Ferienpass der Samtgemeinde Liebenau.
URL:https://www.weser-aue-aktuell.de/event/bauerngolf/
LOCATION:Niedersachsen
ATTACH;FMTTYPE=image/jpeg:https://www.weser-aue-aktuell.de/wp-content/uploads/sites/381/2019/05/Ferienpass-SG-Liebenau.jpg
ORGANIZER;CN="LandFrauenverein Pennigsehl-Mainsche e.V.":MAILTO:liseltraud-witte@t-online.de
END:VEVENT
BEGIN:VEVENT
DTSTART;TZID=Europe/Berlin:20190705T110000
DTEND;TZID=Europe/Berlin:20190705T150000
DTSTAMP:20260420T012512
CREATED:20190524T091425Z
LAST-MODIFIED:20190703T100156Z
UID:5313-1562324400-1562338800@www.weser-aue-aktuell.de
SUMMARY:Eine Zeitreise zu den Altsachsen
DESCRIPTION:Der Verein Rauzwi\, mit einer „Zweigstelle“ in der alten Schule in Mainsche\, beteiligt sich in diesem Jahr an der Ferienpassaktion der Samtgemeinde Liebenau. Einzelheiten entnehmt bitte dem Plakat. Für die Teilnahme ist eine Anmeldung bei der Samtgemeinde erforderlich. \nAnsprechpartner des Vereins: Gundula Tessendorff 0151 41214843
URL:https://www.weser-aue-aktuell.de/event/eine-zeitreise-zu-den-altsachsen/
LOCATION:Niedersachsen
ATTACH;FMTTYPE=image/jpeg:https://www.weser-aue-aktuell.de/wp-content/uploads/sites/381/2019/05/Ferienpass-SG-Liebenau.jpg
ORGANIZER;CN="RAUZWI - Lebendige Arch%C3%A4ologie Mittelweser e.V.":MAILTO:info@rauzwi.de
END:VEVENT
BEGIN:VEVENT
DTSTART;TZID=Europe/Berlin:20190629T143000
DTEND;TZID=Europe/Berlin:20190629T170000
DTSTAMP:20260420T012512
CREATED:20190612T065447Z
LAST-MODIFIED:20190703T095200Z
UID:7353-1561818600-1561827600@www.weser-aue-aktuell.de
SUMMARY:Sommerfest WEGEFINDER
DESCRIPTION:Die WEGEFINDER und unsere Grundschule freuen sich über viele Gäste am Samstag\, dem 29. Juni 2019\, in der Zeit von 14.30 – 17.00 Uhr auf dem Gelände der Schule\, Übern Braken 32\, 31621 Pennigsehl. \nFür Kurzweil\, Spiel und Spaß\, Leckereien und kreative Getränke ist bestens gesorgt. \nVeranstalter ist das WEGEFINDER-Team mit Beteiligung und Unterstützung von: \n\nKollegium der Grundschule\nunsere kurdischen Nachbarn der Schule\nDRK Ortsgruppe Pennigsehl\nLandFrauenverein Pennigsehl-Mainsche e.V.\nSpielmannszug Pennigsehl\nFreiwillige Feuerwehr Pennigsehl\nWerkstatt (AG) „Kunterbunt“\n\nSeid herzlich willkommen!
URL:https://www.weser-aue-aktuell.de/event/sommerfest/
LOCATION:Begegnungszentrum WEGEFINDER\, Übern Braken 32\, Pennigsehl\, Niedersachsen\, 31621\, Deutschland
ORGANIZER;CN="WEGEFINDER":MAILTO:team@wegefinder.com
END:VEVENT
BEGIN:VEVENT
DTSTART;VALUE=DATE:20190610
DTEND;VALUE=DATE:20190611
DTSTAMP:20260420T012512
CREATED:20190524T052914Z
LAST-MODIFIED:20190703T095115Z
UID:5103-1560124800-1560211199@www.weser-aue-aktuell.de
SUMMARY:Radtour und mehr
DESCRIPTION:Warum in die Ferne schweifen?\nDer LandFrauenverein Pennigsehl-Mainsche e.V. lädt herzlich ein zu einer Radtour nach Glissen „Zum Rohrbach“ und Spargelessen „satt“. \nAnmeldung bis zum 10. Juni 2019 bei \n\nSabine Grundmann 05023 4250 oder\nHeike Schmauder 05028 1358
URL:https://www.weser-aue-aktuell.de/event/radtour-und-mehr/
LOCATION:Niedersachsen
ORGANIZER;CN="LandFrauenverein Pennigsehl-Mainsche e.V.":MAILTO:liseltraud-witte@t-online.de
END:VEVENT
BEGIN:VEVENT
DTSTART;VALUE=DATE:20190608
DTEND;VALUE=DATE:20190610
DTSTAMP:20260420T012512
CREATED:20190524T054258Z
LAST-MODIFIED:20190703T095043Z
UID:5124-1559952000-1560124799@www.weser-aue-aktuell.de
SUMMARY:Schützenfest Pennigsehl
DESCRIPTION:Zum Besuch des Schützenfestes in Pennigsehl am 8. und 9. Juni 2019 lädt der Schützenverein Pennigsehl e.V. recht herzlich ein. \nDen Ablauf entnehmt bitte den Plakaten. \n\n\n\nGut Schuss und viel Freude allen Besuchern!
URL:https://www.weser-aue-aktuell.de/event/schuetzenfest-pennigsehl/
LOCATION:Niedersachsen
ORGANIZER;CN="Sch%C3%BCtzenverein Pennigsehl e.V.":MAILTO:GLannewehr@t-online.de
END:VEVENT
END:VCALENDAR