BEGIN:VCALENDAR
VERSION:2.0
PRODID:-//Weser-Aue Aktuell - ECPv6.15.20//NONSGML v1.0//EN
CALSCALE:GREGORIAN
METHOD:PUBLISH
X-WR-CALNAME:Weser-Aue Aktuell
X-ORIGINAL-URL:https://www.weser-aue-aktuell.de
X-WR-CALDESC:Veranstaltungen im Weser-Aue Aktuell
REFRESH-INTERVAL;VALUE=DURATION:PT1H
X-Robots-Tag:noindex
X-PUBLISHED-TTL:PT1H
BEGIN:VTIMEZONE
TZID:Europe/Berlin
BEGIN:DAYLIGHT
TZOFFSETFROM:+0100
TZOFFSETTO:+0200
TZNAME:CEST
DTSTART:20180325T010000
END:DAYLIGHT
BEGIN:STANDARD
TZOFFSETFROM:+0200
TZOFFSETTO:+0100
TZNAME:CET
DTSTART:20181028T010000
END:STANDARD
BEGIN:DAYLIGHT
TZOFFSETFROM:+0100
TZOFFSETTO:+0200
TZNAME:CEST
DTSTART:20190331T010000
END:DAYLIGHT
BEGIN:STANDARD
TZOFFSETFROM:+0200
TZOFFSETTO:+0100
TZNAME:CET
DTSTART:20191027T010000
END:STANDARD
BEGIN:DAYLIGHT
TZOFFSETFROM:+0100
TZOFFSETTO:+0200
TZNAME:CEST
DTSTART:20200329T010000
END:DAYLIGHT
BEGIN:STANDARD
TZOFFSETFROM:+0200
TZOFFSETTO:+0100
TZNAME:CET
DTSTART:20201025T010000
END:STANDARD
END:VTIMEZONE
BEGIN:VEVENT
DTSTART;TZID=Europe/Berlin:20190922T103000
DTEND;TZID=Europe/Berlin:20190922T103000
DTSTAMP:20260419T201152
CREATED:20190819T072426Z
LAST-MODIFIED:20190819T073531Z
UID:14094-1569148200-1569148200@www.weser-aue-aktuell.de
SUMMARY:Frühschoppen mit den "Kornhäuser Musikanten"
DESCRIPTION:Nachklang zum Erntefest\n… das Zelt steht noch!\nWas könnte man dann Schöneres machen\, als sich noch einmal zu einem zünftigen Frühschoppen mit Musik zu treffen. \n\nSonntag\, 22. September 2019\nBeginn: 10.30 Uhr\nOrt: Festzelt am Naturbad in Pennigsehl\n\nDie Arbeitsgruppe Erntefest\, bestehend aus SSV\, Heimatverein\, Schützenverein\, Spielmannszug\, Förderverein Naturbad und der Feuerwehr Pennigsehl\, freut sich auf viele Gäste. \nWeitere Informationen zur Veranstaltung entnehmt bitte dem Plakat.
URL:https://www.weser-aue-aktuell.de/event/fruehschoppen-mit-den-kornhaeuser-musikanten/
LOCATION:Naturbad Pennigsehl\, Übern Braken 22\, Pennigsehl\, Niedersachsen\, 31621\, Deutschland
ORGANIZER;CN="F%C3%B6rderverein Pennigsehler Naturbad e.V.":MAILTO:info@naturbad-pennigsehl.de
END:VEVENT
BEGIN:VEVENT
DTSTART;VALUE=DATE:20190921
DTEND;VALUE=DATE:20190922
DTSTAMP:20260419T201152
CREATED:20190524T175827Z
LAST-MODIFIED:20190819T074723Z
UID:5740-1569024000-1569110399@www.weser-aue-aktuell.de
SUMMARY:Erntefest Pennigsehl
DESCRIPTION:Das Erntefest in Pennigsehl ist immer ein großes Ereignis. Schon Wochen vorher werden in der ganzen Gemeinde die schönsten und originellsten Erntewagen geschmückt. Die Bürgerinnen und Bürger freuen sich auf dieses traditionelle Fest\, das ein Zeichen für den guten Zusammenhalt in der Gemeinde ist. \nAusgelassen wird am Samstag\, dem 21. September 2019\, gefeiert und jeder leistet einen kleinen Beitrag zum Gelingen. \nDamit das Fest stattfinden kann\, haben sich der SSV\, der Heimatverein\, der Schützenverein\, der Spielmannszug\, der Förderverein Naturbad und die Feuerwehr Pennigsehl zusammengetan\, um einmal den finanziellen Rahmen abzusichern\, aber auch um all die vielen kleinen Vorbereitungen rund ums Erntefest zu erledigen. \nAn dieser Stelle einmal ein riesiges Dankeschön an die Vereine\, die das Fest möglich machen und an all die kreativen Köpfe\, die es zu einem Augenschmaus werden lassen.
URL:https://www.weser-aue-aktuell.de/event/erntefest-pennigsehl/
LOCATION:Naturbad Pennigsehl\, Übern Braken 22\, Pennigsehl\, Niedersachsen\, 31621\, Deutschland
ORGANIZER;CN="F%C3%B6rderverein Pennigsehler Naturbad e.V.":MAILTO:info@naturbad-pennigsehl.de
END:VEVENT
BEGIN:VEVENT
DTSTART;TZID=Europe/Berlin:20190920T180000
DTEND;TZID=Europe/Berlin:20190922T210000
DTSTAMP:20260419T201152
CREATED:20190730T124151Z
LAST-MODIFIED:20190730T124151Z
UID:12505-1569002400-1569186000@www.weser-aue-aktuell.de
SUMMARY:Rodewalder Jahrmarkt
DESCRIPTION:
URL:https://www.weser-aue-aktuell.de/event/rodewalder-jahrmarkt/
LOCATION:Marktplatz Rodewald\, Freithof\, Rodewald\, 31637
ORGANIZER;CN="Gemeinde Rodewald":MAILTO:rathaus@steimbke.de
END:VEVENT
BEGIN:VEVENT
DTSTART;TZID=Europe/Berlin:20190915T110000
DTEND;TZID=Europe/Berlin:20190915T110000
DTSTAMP:20260419T201152
CREATED:20190821T134714Z
LAST-MODIFIED:20190821T140923Z
UID:14234-1568545200-1568545200@www.weser-aue-aktuell.de
SUMMARY:Willkommen beim Liebenauer-Spätsommer-Flohmarkt!
DESCRIPTION:Am 15. September ab 11 Uhr findet im Rahmen des Liebenauer Spätsommers wieder ein Flohmarkt im Bereich der Löwinne/Grüne Straße statt. \nZeitgleich gibt es auf der Löwinne Musik am laufenden Band auf der Showbühne mit der Band PopNieten. Dazu Konzerteinlagen der Bläserklasse und des Schulchores der Grundschule Liebenau. Auch das Rahmenprogramm bietet Unterhaltung für die ganze Familie: Hüpfburg\, Karussell  und Kinderanimation\, Musik\, „Künstler malen mit Kindern“\, Wein\, Kaffee und Kuchen\, Bier und typische Getränke aus der Region; dazu präsentiert „Liebenau hilft“ internationale Spezialitäten. \nWir haben noch Platz für interessierte Verkäufer. \n\nAntik und Trödel aller Art\nKinderspielzeug und -bekleidung\, alles rund ums Kind\nKleidung und Accessoires\nhandgemachte Sachen\nKitsch\, Kunst und Krempel für Drinnen und Draußen\n\nDie Anmeldung zum Flohmarkt kann telefonisch beim Rathaus (Toni Seiler) unter: Telefon 05023/2914 per mail an ts@liebenau.com oder direkt am 15. September\, bis 10 Uhr\, erfolgen. \nWeitere Informationen: liebenauer-spaetsommer-mit-flohmarkt
URL:https://www.weser-aue-aktuell.de/event/willkommen-beim-liebenauer-spaetsommer-flohmarkt/
LOCATION:„Löwinne“ – Dorfplatz\, Löwinne\, Liebenau\, Niedersachsen\, 31618
ORGANIZER;CN="Flecken Liebenau":MAILTO:info@weser-aue.de
END:VEVENT
BEGIN:VEVENT
DTSTART;VALUE=DATE:20190914
DTEND;VALUE=DATE:20190915
DTSTAMP:20260419T201152
CREATED:20190813T145004Z
LAST-MODIFIED:20190813T145848Z
UID:6062-1568419200-1568505599@www.weser-aue-aktuell.de
SUMMARY:Liebenauer Spätsommer
DESCRIPTION:Zum Ausklang des Sommers …\nPartyveranstaltung mit Tanzmusik\n\n\nDer Flecken Liebenau lädt die Einwohnerschaft\, Jung und Alt\, in das rustikale Ambiente der Scheunen in der Bergstraße ein. Der Veranstalter freut sich auf viele Gäste\, um den Sommer gemeinsam in gemütlicher Atmosphäre ausklingen zu lassen. \nDas Fest beginnt mit einer „Happy Hour“. \nFür Stimmung und Musik durch die Nacht und auch für das leibliche Wohl ist selbstverständlich gesorgt.
URL:https://www.weser-aue-aktuell.de/event/liebenauer-spaetsommer/
LOCATION:Kulturscheunen Liebenau\, Bergstraße 8\, Liebenau\, Niedersachsen\, 31618\, Deutschland
ORGANIZER;CN="Flecken Liebenau":MAILTO:info@weser-aue.de
END:VEVENT
BEGIN:VEVENT
DTSTART;TZID=Europe/Berlin:20190908T110000
DTEND;TZID=Europe/Berlin:20190908T110000
DTSTAMP:20260419T201152
CREATED:20190812T080239Z
LAST-MODIFIED:20190812T080239Z
UID:13688-1567940400-1567940400@www.weser-aue-aktuell.de
SUMMARY:Dörpsfest in NeuWoSud
DESCRIPTION:Am 08. September 2019 findet ab 11 Uhr beim Feuerwehrhaus in Wohlenhausen das Dörpsfest statt. \nFür das leibliche Wohl ist gesorgt. Es wird Kaffe und Kuchen geben\, sowie leckeres vom Grill. \nFür Unterhaltung sorgt der Feuerwehrmusikzug Landesbergen und die Jugendgruppe. \n  \nEs freuen sich: \nSchützenverein Sudhalenbeck u.U.e.V. \nJugendgruppe Neulohe e.V. \nFeuerwehrgruppe Wohlenhausen
URL:https://www.weser-aue-aktuell.de/event/doerpsfest-in-neuwosud/
LOCATION:Feuerwehrhaus Wohlenhausen\, Kornstraße 1\, Wohlenhausen
END:VEVENT
BEGIN:VEVENT
DTSTART;TZID=Europe/Berlin:20190906T183000
DTEND;TZID=Europe/Berlin:20190906T210000
DTSTAMP:20260419T201152
CREATED:20190807T155701Z
LAST-MODIFIED:20190807T155701Z
UID:13457-1567794600-1567803600@www.weser-aue-aktuell.de
SUMMARY:Feng Shui
DESCRIPTION:Die österreichischen Schwestern Andrea und Ursula Schwarz bieten in der Kulturscheune Liebenau einen kostenlosen Informationsvortrag über ganzheitliches Feng Shui an. \nFeng Shui ist keine Religion\, sondern eine uralte „Naturwissenschaft“\, die eine Analyse für ein Haus/Wohnung/Firma und die darin lebenden Personen erstellt. Es beschreibt den Zusammenhang und die Wechselwirkungen zwischen uns\, unserem Wohlbefinden und den uns umgebenden Lebensraum. \nBerücksichtigt werden dabei Farben\, Möbelanordnungen\, Symbole\, Elemente der Personen\, der Grundriss des Hauses/der Wohnung/der Firma\, Umgebungsbedingungen (die Lage des Hauses)\, aber auch geopathische Störzonen (z.B.: negativ wirkende Wasseradern\, geologische Brüche\, Erdwirbel\, Leylinien\, Gräber\, Vorgeschichte des Platzes\, usw.). \nDas Chi (Energie) soll gut fließen können\, damit man insgesamt eine höhere Lebensenergie und mehr Lebensqualität erreicht. \nDies beeinflusst\, verbessert und stärkt wiederum Bereiche wie Wohlstand\, Partnerschaft\, Gesundheit\, Stabilität\, Karriere\, Wohlbefinden\, und vieles mehr. \n\nLebensraumgestaltung für Wohnung\, Haus und Firma/Büro\nErhöhung der Lebensqualität\nKundenzufriedenheit\, Kundenfluss\nVerbesserung von Arbeits- und Teamklima\nSteigerung der Leistungsfähigkeit\nKlärung der Ziele und Fokussierung darauf\nWohlbefinden\nZufriedenheit in Wohlstand\, Partnerschaft\, etc.\n\n \n 
URL:https://www.weser-aue-aktuell.de/event/feng-shui/
LOCATION:Kulturscheunen Liebenau\, Bergstraße 8\, Liebenau\, Niedersachsen\, 31618\, Deutschland
ORGANIZER;CN="Kulturscheunen - Verein zur Erhaltung des Scheunenviertels 'Vor dem Pennigsehler Tor' e.V.":MAILTO:info@kulturscheune-liebenau.de
END:VEVENT
BEGIN:VEVENT
DTSTART;VALUE=DATE:20190901
DTEND;VALUE=DATE:20190902
DTSTAMP:20260419T201152
CREATED:20190524T173848Z
LAST-MODIFIED:20190524T173848Z
UID:5684-1567296000-1567382399@www.weser-aue-aktuell.de
SUMMARY:Kommt mit ins Kino!
DESCRIPTION:Besucht mit dem LandFrauenverein Pennigsehl-Mainsche e.V. am Sonntag\, dem 1. September 2019\, das „Sonntags-Frühstückskino“ in Hoya. \nSonntagmorgen … gemütlich bei Kaffee\, Tee\, frischen Brötchen und sogar einem Sekt den Film genießen. Die Hin- und Rückfahrt nach Hoya ist mit Fahrgemeinschaften geplant. \n\nTreffpunkt: 9.30 Uhr an der Grundschule in Pennigsehl\, Übern Braken 32\n\nNähere Infos und Anmeldung bis zum 25. August 2019: \n\nKerstin Heckelt – Telefon 05028 902080
URL:https://www.weser-aue-aktuell.de/event/kommt-mit-ins-kino/
ORGANIZER;CN="LandFrauenverein Pennigsehl-Mainsche e.V.":MAILTO:liseltraud-witte@t-online.de
END:VEVENT
BEGIN:VEVENT
DTSTART;TZID=Europe/Berlin:20190823T160000
DTEND;TZID=Europe/Berlin:20190823T180000
DTSTAMP:20260419T201152
CREATED:20190524T173309Z
LAST-MODIFIED:20190703T100614Z
UID:5656-1566576000-1566583200@www.weser-aue-aktuell.de
SUMMARY:... mit der Laterne durch Nienburg
DESCRIPTION:Der LandFrauenverein Pennigsehl-Mainsche e.V. lädt herzlich ein zu einer Nachtwächterführung in Nienburg mit anschließendem gemeinsamen Essen im Restaurant „La Matta“. \nDie Aufgabe eines Nachtwächters im Mittelalter bestand darin nachts durch die Gassen zu gehen und für Ruhe und Ordnung zu sorgen. Er warnte die Bürger vor Feuer\, Dieben und Feinden. Da es sich hierbei um einen nicht ungefährlichen Beruf handelte\, gehörten eine Hellebarde\, eine Laterne sowie ein Horn zu seiner Ausrüstung. Früher im Dienste des Grafen und des Bürgermeisters unterwegs\, widmet er sich heute den Gästen der Stadt. Tauchen Sie ein in Mythen und Sagen und begeben Sie sich auf eine Zeitreise. (Quelle: Mittelweser-Touristik) \nMehr Informationen und Anmeldung bis zum 14. August 2019 bei Petra Hassel 05028 1218.
URL:https://www.weser-aue-aktuell.de/event/mit-der-laterne-durch-nienburg/
ORGANIZER;CN="LandFrauenverein Pennigsehl-Mainsche e.V.":MAILTO:liseltraud-witte@t-online.de
END:VEVENT
BEGIN:VEVENT
DTSTART;TZID=Europe/Berlin:20190817T150000
DTEND;TZID=Europe/Berlin:20190817T150000
DTSTAMP:20260419T201152
CREATED:20190722T121919Z
LAST-MODIFIED:20190730T123610Z
UID:11315-1566054000-1566054000@www.weser-aue-aktuell.de
SUMMARY:Stöwer Straßenfest 17. August 2019 ab 15 Uhr
DESCRIPTION:
URL:https://www.weser-aue-aktuell.de/event/stoewer-strassenfest-2019/
LOCATION:Feuerwehrgerätehaus Stöckse
END:VEVENT
BEGIN:VEVENT
DTSTART;TZID=Europe/Berlin:20190817T093000
DTEND;TZID=Europe/Berlin:20190817T093000
DTSTAMP:20260419T201152
CREATED:20190814T100350Z
LAST-MODIFIED:20190814T100350Z
UID:13933-1566034200-1566034200@www.weser-aue-aktuell.de
SUMMARY:Einschulung der Grundschule Wietzen
DESCRIPTION:Die Einschulung der Schulanfänger findet am 17.08.2019 statt. \n\n \n\n\nDer Einschulungsgottesdienst der Grundschule Wietzen findet um 09:30 Uhr in der Wietzener Kirche statt. Um 10.00 Uhr beginnt die Einschulungsfeier in den Räumlichkeiten der Grundschule Wietzen.\n\n 
URL:https://www.weser-aue-aktuell.de/event/einschulung-der-grundschule-wietzen/
LOCATION:Kirche Wietzen
END:VEVENT
BEGIN:VEVENT
DTSTART;TZID=Europe/Berlin:20190817T090000
DTEND;TZID=Europe/Berlin:20190817T090000
DTSTAMP:20260419T201152
CREATED:20190814T100128Z
LAST-MODIFIED:20190814T100454Z
UID:13919-1566032400-1566032400@www.weser-aue-aktuell.de
SUMMARY:Einschulung der Grundschule Marklohe
DESCRIPTION:Die Einschulung der Schulanfänger findet am 17.08.2019 statt. \n\nDer Einschulungsgottesdienst der Grundschule Marklohe findet um 09:00 Uhr in der Markloher Kirche statt. Um 10.00 Uhr beginnt die Einschulungsfeier in den Räumlichkeiten der Grundschule Marklohe.
URL:https://www.weser-aue-aktuell.de/event/einschulung-der-schulanfaenger/
END:VEVENT
BEGIN:VEVENT
DTSTART;TZID=Europe/Berlin:20190814T153000
DTEND;TZID=Europe/Berlin:20190814T170000
DTSTAMP:20260419T201152
CREATED:20190524T170823Z
LAST-MODIFIED:20190703T100542Z
UID:5600-1565796600-1565802000@www.weser-aue-aktuell.de
SUMMARY:Badminton zum Kennenlernen
DESCRIPTION:Die SG Pennigsehl/Liebenau beteiligt sich in diesem Jahr mit der Aktion „Badminton zum Kennenlernen„ an der Ferienpassaktion für Kinder der Samtgemeinde Liebenau. \nAnmeldung bei der Samtgemeinde Liebenau erforderlich! \n \n 
URL:https://www.weser-aue-aktuell.de/event/badminton-zum-kennenlernen/
LOCATION:Sporthalle St. Laurentius Liebenau\, Schloßstraße 12\, Liebenau\, Niedersachsen\, 31618\, Deutschland
ATTACH;FMTTYPE=image/jpeg:https://www.weser-aue-aktuell.de/wp-content/uploads/sites/381/2019/05/Ferienpass-SG-Liebenau.jpg
ORGANIZER;CN="SG Pennigsehl/Liebenau e.V.":MAILTO:lannewehr@gmx.de
END:VEVENT
BEGIN:VEVENT
DTSTART;TZID=Europe/Berlin:20190811T150000
DTEND;TZID=Europe/Berlin:20190811T173000
DTSTAMP:20260419T201152
CREATED:20190722T120922Z
LAST-MODIFIED:20190722T120922Z
UID:11294-1565535600-1565544600@www.weser-aue-aktuell.de
SUMMARY:Leeveslust und Waterschaden
DESCRIPTION:Die Freilichtbühne in Stöckse wird trotz der Bauarbeiten an der Ortsdurchfahrt erreichbar sein. Bitte beachten Sie ggf. die Hinweise zu den Parkmöglichkeiten vor Ort.
URL:https://www.weser-aue-aktuell.de/event/leeveslust-und-waterschaden-9/
LOCATION:Freilichtspiele Stöckse\, Nienburger Straße\, Stöckse\, 31638\, Deutschland
END:VEVENT
BEGIN:VEVENT
DTSTART;TZID=Europe/Berlin:20190811T110000
DTEND;TZID=Europe/Berlin:20190811T140000
DTSTAMP:20260419T201152
CREATED:20190806T072408Z
LAST-MODIFIED:20190806T094057Z
UID:6265-1565521200-1565532000@www.weser-aue-aktuell.de
SUMMARY:Sommerferienflohmarkt
DESCRIPTION:Fällt aus!\nLeider haben sich nicht genügend Anbieter gefunden\, um einen attraktiven Flohmarkt auf dem Schulhof unserer „Alten Schule“ in Mainsche zu veranstalten. Die Organisationsgruppe der WEGEFINDER teilt mit\, dass weder Picknick noch Flohmarkt stattfinden werden. \nSchade!\n\nTag: Sonntag\, 11. August 2019\nZeit: 11.00 bis 14.00 Uhr\nStandgebühr: etwas für den Picknicktisch\n\nAnsprechpartner: Sandra Palatzky 0172 5223760.
URL:https://www.weser-aue-aktuell.de/event/sommerferienflohmarkt/
LOCATION:Alte Schule Mainsche\, Hesterberger Straße 5\, Pennigsehl\, Niedersachsen\, 31621\, Deutschland
ORGANIZER;CN="WEGEFINDER":MAILTO:team@wegefinder.com
END:VEVENT
BEGIN:VEVENT
DTSTART;TZID=Europe/Berlin:20190810T200000
DTEND;TZID=Europe/Berlin:20190810T230000
DTSTAMP:20260419T201152
CREATED:20190525T123254Z
LAST-MODIFIED:20190703T095556Z
UID:6048-1565467200-1565478000@www.weser-aue-aktuell.de
SUMMARY:Franco Morone und Raffaella Luna
DESCRIPTION:DIE KULTURSCHEUNEN LIEBENAU PRÄSENTIEREN IN KOOPERATION MIT DER DOKUMENTATIONSSTELLE PULVERFABRIK LIEBENAU IM RAHMEN IHRES 20JÄHRIGEN JUBILÄUMS. \nFranco Morone gilt als einer der bedeutendsten Fingerstyle-Gitarristen der internationalen Musikszene. Sein Repertoire verbindet Eigenkompositionen und Arrangements traditioneller Werke: Unter seinen Fingern wirken alte Melodien wie neugeboren – und neue Melodien wie Klassiker. Dabei meistert er alle musikalischen Genres\, seien es Blues\, Jazz oder italienischer und keltischer Fingerstyle\, mit brillanten Arrangements für sechs Saiten. \nNeben Solostücken wird er zusammen mit der großartigen Stimme von Raffaella Luna zu hören sein: eine magische Atmosphäre an einem Sommerabend! Raffaellas Stimme wird international als „stark\, leidenschaftlich und sicher“ gelobt\, es wird eine kleine Sammlung von Liedern vom Ende des 19. Jahrhunderts bis zur Mitte des 20. Jahrhunderts mit vielen der schönsten Kompositionen aus der italienischen Tradition zu hören sein. \nDie Musik der beiden überrascht durch ihre Einfachheit und die Leichtigkeit\, mit der sie das Publikum noch heute verzaubert und bewegt. \nWeitere Informationen: FRANCOMORONE.COM & RAFFAELLALUNA.COM \nDenkt rechtzeitig an Eure Reservierung.
URL:https://www.weser-aue-aktuell.de/event/konzert-mit-franco-morone/
LOCATION:Kulturscheunen Liebenau\, Bergstraße 8\, Liebenau\, Niedersachsen\, 31618\, Deutschland
ORGANIZER;CN="Kulturscheunen - Verein zur Erhaltung des Scheunenviertels 'Vor dem Pennigsehler Tor' e.V.":MAILTO:info@kulturscheune-liebenau.de
END:VEVENT
BEGIN:VEVENT
DTSTART;TZID=Europe/Berlin:20190810T200000
DTEND;TZID=Europe/Berlin:20190810T223000
DTSTAMP:20260419T201152
CREATED:20190722T120743Z
LAST-MODIFIED:20190722T120743Z
UID:11280-1565467200-1565476200@www.weser-aue-aktuell.de
SUMMARY:Leeveslust und Waterschaden
DESCRIPTION:Die Freilichtbühne in Stöckse wird trotz der Bauarbeiten an der Ortsdurchfahrt erreichbar sein. Bitte beachten Sie ggf. die Hinweise zu den Parkmöglichkeiten vor Ort.
URL:https://www.weser-aue-aktuell.de/event/leeveslust-und-waterschaden-8/
LOCATION:Freilichtspiele Stöckse\, Nienburger Straße\, Stöckse\, 31638\, Deutschland
END:VEVENT
BEGIN:VEVENT
DTSTART;TZID=Europe/Berlin:20190809T200000
DTEND;TZID=Europe/Berlin:20190809T223000
DTSTAMP:20260419T201152
CREATED:20190722T120613Z
LAST-MODIFIED:20190722T121044Z
UID:11266-1565380800-1565389800@www.weser-aue-aktuell.de
SUMMARY:Leeveslust und Waterschaden
DESCRIPTION:Die Freilichtbühne in Stöckse wird trotz der Bauarbeiten an der Ortsdurchfahrt erreichbar sein. Bitte beachten Sie ggf. die Hinweise zu den Parkmöglichkeiten vor Ort.
URL:https://www.weser-aue-aktuell.de/event/leeveslust-und-waterschaden-7/
LOCATION:Freilichtspiele Stöckse\, Nienburger Straße\, Stöckse\, 31638\, Deutschland
END:VEVENT
BEGIN:VEVENT
DTSTART;TZID=Europe/Berlin:20190804T200000
DTEND;TZID=Europe/Berlin:20190804T223000
DTSTAMP:20260419T201152
CREATED:20190722T104303Z
LAST-MODIFIED:20190722T104822Z
UID:11119-1564948800-1564957800@www.weser-aue-aktuell.de
SUMMARY:Leeveslust und Waterschaden
DESCRIPTION:Die Freilichtbühne in Stöckse wird trotz der Bauarbeiten an der Ortsdurchfahrt erreichbar sein. Bitte beachten Sie ggf. die Hinweise zu den Parkmöglichkeiten vor Ort.
URL:https://www.weser-aue-aktuell.de/event/leeveslust-und-waterschaden/
LOCATION:Freilichtspiele Stöckse\, Nienburger Straße\, Stöckse\, 31638\, Deutschland
END:VEVENT
BEGIN:VEVENT
DTSTART;TZID=Europe/Berlin:20190804T150000
DTEND;TZID=Europe/Berlin:20190804T173000
DTSTAMP:20260419T201152
CREATED:20190722T120402Z
LAST-MODIFIED:20190722T121014Z
UID:11252-1564930800-1564939800@www.weser-aue-aktuell.de
SUMMARY:Leeveslust und Waterschaden
DESCRIPTION:Die Freilichtbühne in Stöckse wird trotz der Bauarbeiten an der Ortsdurchfahrt erreichbar sein. Bitte beachten Sie ggf. die Hinweise zu den Parkmöglichkeiten vor Ort.
URL:https://www.weser-aue-aktuell.de/event/leeveslust-und-waterschaden-6/
LOCATION:Freilichtspiele Stöckse\, Nienburger Straße\, Stöckse\, 31638\, Deutschland
END:VEVENT
BEGIN:VEVENT
DTSTART;TZID=Europe/Berlin:20190803T200000
DTEND;TZID=Europe/Berlin:20190803T223000
DTSTAMP:20260419T201152
CREATED:20190722T110206Z
LAST-MODIFIED:20190722T121133Z
UID:11238-1564862400-1564871400@www.weser-aue-aktuell.de
SUMMARY:Leeveslust und Waterschaden
DESCRIPTION:Die Freilichtbühne in Stöckse wird trotz der Bauarbeiten an der Ortsdurchfahrt erreichbar sein. Bitte beachten Sie ggf. die Hinweise zu den Parkmöglichkeiten vor Ort.
URL:https://www.weser-aue-aktuell.de/event/leeveslust-und-waterschaden-5/
LOCATION:Freilichtspiele Stöckse\, Nienburger Straße\, Stöckse\, 31638\, Deutschland
END:VEVENT
BEGIN:VEVENT
DTSTART;VALUE=DATE:20190801
DTEND;VALUE=DATE:20190805
DTSTAMP:20260419T201152
CREATED:20190723T172800Z
LAST-MODIFIED:20190724T080025Z
UID:5628-1564617600-1564963199@www.weser-aue-aktuell.de
SUMMARY:Sportwerbewoche - SSV Pennigsehl-Mainsche e.V.
DESCRIPTION:Der SSV Pennigsehl-Mainsche e.V. freut sich auf viele interessierte Bürgerinnen und Bürger zur diesjährigen Sportwerbewoche vom 1. bis 4. August 2019. \nWährend der diesjährigen Sportwerbewoche findet zum ersten Mal am Samstag\, dem 3. August\, um 15 Uhr der Sport Hiller – All Together Cup statt. Hierbei handelt es sich um ein Kleinfeld-Fussball-Mix-Turnier\, an dem alle ab 16 Jahren teilnehmen können\, egal ob Vereins- oder Hobbyfussballer. Gespielt werden soll mit 5 Spielern plus Torwart. Wobei sich immer mindestens drei Frauen aktuell auf dem Spielfeld befinden müssen. Für alle weiteren Infos sowie die Anmeldung\, kann man sich ab sofort unter All-together-Cup@gmx.de melden.
URL:https://www.weser-aue-aktuell.de/event/sportwerbewoche-ssv-pennigsehl-mainsche-e-v/
LOCATION:Sportplatz Pennigsehl\, Übern Braken 25\, Pennigsehl\, Niedersachsen\, 31621\, Deutschland
ORGANIZER;CN="SSV Pennigsehl-Mainsche e.V.":MAILTO:info@ssv-pennigsehl-mainsche.de
END:VEVENT
BEGIN:VEVENT
DTSTART;TZID=Europe/Berlin:20190728T200000
DTEND;TZID=Europe/Berlin:20190728T223000
DTSTAMP:20260419T201152
CREATED:20190722T110016Z
LAST-MODIFIED:20190722T121218Z
UID:11224-1564344000-1564353000@www.weser-aue-aktuell.de
SUMMARY:Leeveslust und Waterschaden
DESCRIPTION:
URL:https://www.weser-aue-aktuell.de/event/leeveslust-und-waterschaden-4/
LOCATION:Freilichtspiele Stöckse\, Nienburger Straße\, Stöckse\, 31638\, Deutschland
END:VEVENT
BEGIN:VEVENT
DTSTART;TZID=Europe/Berlin:20190727T200000
DTEND;TZID=Europe/Berlin:20190727T223000
DTSTAMP:20260419T201152
CREATED:20190722T105926Z
LAST-MODIFIED:20190722T121258Z
UID:11210-1564257600-1564266600@www.weser-aue-aktuell.de
SUMMARY:Leeveslust und Waterschaden
DESCRIPTION:
URL:https://www.weser-aue-aktuell.de/event/leeveslust-und-waterschaden-3/
LOCATION:Freilichtspiele Stöckse\, Nienburger Straße\, Stöckse\, 31638\, Deutschland
END:VEVENT
BEGIN:VEVENT
DTSTART;TZID=Europe/Berlin:20190727T170000
DTEND;TZID=Europe/Berlin:20190728T110000
DTSTAMP:20260419T201152
CREATED:20190723T094318Z
LAST-MODIFIED:20190724T075208Z
UID:5383-1564246800-1564311600@www.weser-aue-aktuell.de
SUMMARY:Zeltlager im Naturbad Pennigsehl
DESCRIPTION:Freut Euch auf das diesjährige Zeltlager im Naturbad Pennigsehl\, das der Förderverein Pennigsehler Naturbad e.V. im Rahmen der Ferienpassaktion der Samtgemeinde Liebenau veranstaltet. \nAnmeldung bei der Samtgemeinde Liebenau erforderlich!
URL:https://www.weser-aue-aktuell.de/event/zeltlager-im-naturbad-pennigsehl/
ATTACH;FMTTYPE=image/jpeg:https://www.weser-aue-aktuell.de/wp-content/uploads/sites/381/2019/05/Ferienpass-SG-Liebenau.jpg
ORGANIZER;CN="F%C3%B6rderverein Pennigsehler Naturbad e.V.":MAILTO:info@naturbad-pennigsehl.de
END:VEVENT
BEGIN:VEVENT
DTSTART;VALUE=DATE:20190727
DTEND;VALUE=DATE:20190729
DTSTAMP:20260419T201152
CREATED:20190724T065657Z
LAST-MODIFIED:20190724T082821Z
UID:5404-1564185600-1564358399@www.weser-aue-aktuell.de
SUMMARY:Herzlich willkommen beim Schützenfest in Mainsche
DESCRIPTION:Der Schützenverein Mainsche e.V. organisiert am 27. und 28. Juli\, wie in jedem Jahr\, das Schützenfest am Dorfgemeinschaftshaus in Mainsche und freut sich auf gut gelaunte Gäste zum Fest. \nViel Freude allen Besuchern!
URL:https://www.weser-aue-aktuell.de/event/schuetzenfest-in-mainsche/
ORGANIZER;CN="Sch%C3%BCtzenverein Mainsche e.V.":MAILTO:f.meyer93@web.de
END:VEVENT
BEGIN:VEVENT
DTSTART;TZID=Europe/Berlin:20190724T200000
DTEND;TZID=Europe/Berlin:20190724T223000
DTSTAMP:20260419T201152
CREATED:20190722T105725Z
LAST-MODIFIED:20190722T121352Z
UID:11189-1563998400-1564007400@www.weser-aue-aktuell.de
SUMMARY:Leeveslust und Waterschaden
DESCRIPTION:
URL:https://www.weser-aue-aktuell.de/event/leeveslust-und-waterschaden-2/
LOCATION:Freilichtspiele Stöckse\, Nienburger Straße\, Stöckse\, 31638\, Deutschland
END:VEVENT
BEGIN:VEVENT
DTSTART;TZID=Europe/Berlin:20190720T170000
DTEND;TZID=Europe/Berlin:20190721T100000
DTSTAMP:20260419T201152
CREATED:20190524T093345Z
LAST-MODIFIED:20190703T095806Z
UID:5355-1563642000-1563703200@www.weser-aue-aktuell.de
SUMMARY:Zeltlager am Fuchsberg
DESCRIPTION:Die FF Hesterberg-Mainsche beteiligt sich in diesem Jahr mit der Aktion „Zeltlager“ an der Ferienpassaktion für Kinder der Samtgemeinde Liebenau. \nEine Anmeldung bei der Samtgemeinde Liebenau ist erforderlich! \nNähere Infos bei Dieter Riedel 05021 6071313
URL:https://www.weser-aue-aktuell.de/event/zeltlager-am-fuchsberg/
ATTACH;FMTTYPE=image/jpeg:https://www.weser-aue-aktuell.de/wp-content/uploads/sites/381/2019/05/Ferienpass-SG-Liebenau.jpg
ORGANIZER;CN="Freiwillige Feuerwehr Mainsche":MAILTO:dieter-karina-dennis@t-online.de
END:VEVENT
BEGIN:VEVENT
DTSTART;TZID=Europe/Berlin:20190720T100000
DTEND;TZID=Europe/Berlin:20190720T140000
DTSTAMP:20260419T201152
CREATED:20190524T093807Z
LAST-MODIFIED:20190703T095858Z
UID:5369-1563616800-1563631200@www.weser-aue-aktuell.de
SUMMARY:Basteln mit Holz und das kleine ABC der ersten Hilfe
DESCRIPTION:Das DRK Pennigsehl beteiligt sich in diesem Jahr mit der Aktion „Basteln mit Holz und das kleine ABC der ersten Hilfe“ an der Ferienpassaktion für Kinder der Samtgemeinde Liebenau. \nNähere Infos und Anmeldung bei der Samtgemeinde Liebenau. \n \n 
URL:https://www.weser-aue-aktuell.de/event/basteln-mit-holz-und-das-kleine-abc-der-ersten-hilfe/
LOCATION:DRK-Halle Pennigsehl\, Übern Braken\, Pennigsehl\, Niedersachsen\, 31621\, Deutschland
ATTACH;FMTTYPE=image/jpeg:https://www.weser-aue-aktuell.de/wp-content/uploads/sites/381/2019/05/Ferienpass-SG-Liebenau.jpg
END:VEVENT
BEGIN:VEVENT
DTSTART;TZID=Europe/Berlin:20190719T143000
DTEND;TZID=Europe/Berlin:20190719T180000
DTSTAMP:20260419T201152
CREATED:20190525T120846Z
LAST-MODIFIED:20190703T095929Z
UID:5985-1563546600-1563559200@www.weser-aue-aktuell.de
SUMMARY:Entdecke den Clown in Dir
DESCRIPTION:Die Flüchtlingsinitiative „Liebenau hilft“ beteiligt sich mit der Aktion \n„Entdecke den Clown in Dir“\nam Ferienpassprogramm der Samtgemeinde Liebenau. \nDie Teilnahme erfordert eine Anmeldung bei der Samtgemeinde Liebenau. \nAnsprechpartnerin: Petra Graner
URL:https://www.weser-aue-aktuell.de/event/entdecke-den-clown-in-dir/
LOCATION:Kulturscheunen Liebenau\, Bergstraße 8\, Liebenau\, Niedersachsen\, 31618\, Deutschland
END:VEVENT
END:VCALENDAR